BEGIN:VCALENDAR
VERSION:2.0
PRODID:-//ChamberMaster//Event Calendar 2.0//EN
METHOD:PUBLISH
X-PUBLISHED-TTL:P1H
REFRESH-INTERVAL:P1H
CALSCALE:GREGORIAN
BEGIN:VTIMEZONE
TZID:America/New_York
BEGIN:DAYLIGHT
RRULE:FREQ=YEARLY;BYMONTH=3;BYDAY=2SU
DTSTART:20070101T000000
TZOFFSETFROM:-0500
TZOFFSETTO:-0400
TZNAME:Eastern Daylight Time
END:DAYLIGHT
BEGIN:STANDARD
RRULE:FREQ=YEARLY;BYMONTH=11;BYDAY=1SU
DTSTART:20070101T000000
TZOFFSETFROM:-0400
TZOFFSETTO:-0500
TZNAME:Eastern Standard Time
END:STANDARD
END:VTIMEZONE
BEGIN:VEVENT
DTSTART;TZID=America/New_York:20260503T183000
DTEND;TZID=America/New_York:20260503T200000
X-MICROSOFT-CDO-ALLDAYEVENT:FALSE
SUMMARY:National Shrine Basilica of Our Lady Of Fatima
DESCRIPTION:HEALING MASS by Fr. Daniel Ogbeifun in the Basilica
X-ALT-DESC;FMTTYPE=text/html:HEALING MASS by Fr. Daniel Ogbeifun in the Basilica
LOCATION:1023 Swann Road Lewiston NY 14092
UID:e.1541.1442472
SEQUENCE:3
DTSTAMP:20260424T175051Z
URL:https://business.upwardniagara.com/chamber-events/Details/national-shrine-basilica-of-our-lady-of-fatima-1708470?sourceTypeId=Hub
END:VEVENT
END:VCALENDAR
