BEGIN:VCALENDAR
VERSION:2.0
PRODID:-//ChamberMaster//Event Calendar 2.0//EN
METHOD:PUBLISH
X-PUBLISHED-TTL:P1H
REFRESH-INTERVAL:P1H
CALSCALE:GREGORIAN
BEGIN:VTIMEZONE
TZID:America/New_York
BEGIN:DAYLIGHT
RRULE:FREQ=YEARLY;BYMONTH=3;BYDAY=2SU
DTSTART:20070101T000000
TZOFFSETFROM:-0500
TZOFFSETTO:-0400
TZNAME:Eastern Daylight Time
END:DAYLIGHT
BEGIN:STANDARD
RRULE:FREQ=YEARLY;BYMONTH=11;BYDAY=1SU
DTSTART:20070101T000000
TZOFFSETFROM:-0400
TZOFFSETTO:-0500
TZNAME:Eastern Standard Time
END:STANDARD
END:VTIMEZONE
BEGIN:VEVENT
DTSTART;TZID=America/New_York:20260802T140000
DTEND;TZID=America/New_York:20260802T170000
X-MICROSOFT-CDO-ALLDAYEVENT:FALSE
SUMMARY:LIVE MUSIC @ BELLA ROSE WITH SKYLINE DUO!!!
DESCRIPTION:Skyline Duo is your new favorite band that only has 2 people in it with no electric guitars or actual drums  but a whole lot of fun! Fueled by best friendship (and a few ounces of Jameson Irish Whiskey here and there) Matt and Garrett can't help but bring a fun\, energetic\, and entertaining show to a bar\, club\, or venue near you. These two self proclaimed top entertainers bring the bangers\, banter\, and dad jokes and tie it all in to a full shows worth of your favorite songs and requests.
X-ALT-DESC;FMTTYPE=text/html:<!DOCTYPE html><html><head><title></title></head><body aria-disabled="false"><div style='margin: 0px 0px 10px\; padding: 0px\; border: 0px\; font-size: 14px\; vertical-align: baseline\; color: rgb(255\, 255\, 255)\; font-family: "Open Sans"\, sans-serif\; font-style: normal\; font-variant-ligatures: normal\; font-variant-caps: normal\; font-weight: 400\; letter-spacing: normal\; orphans: 2\; text-align: start\; text-indent: 0px\; text-transform: none\; widows: 2\; word-spacing: 0px\; -webkit-text-stroke-width: 0px\; white-space: normal\; background-color: rgba(0\, 0\, 0\, 0.3)\; text-decoration-thickness: initial\; text-decoration-style: initial\; text-decoration-color: initial\;'>Skyline Duo is your new favorite band that only has 2 people in it with no electric guitars or actual drums&hellip\; but a whole lot of fun! Fueled by best friendship (and a few ounces of Jameson Irish Whiskey here and there) Matt and Garrett can&rsquo\;t help but bring a fun\, energetic\, and entertaining show to a bar\, club\, or venue near you. These two self proclaimed top entertainers bring the bangers\, banter\, and dad jokes and tie it all in to a full shows worth of your favorite songs and requests.</div></body></html>
LOCATION:1243 Ridge Road Lewiston NY 14092
UID:e.1541.1446748
SEQUENCE:3
DTSTAMP:20260424T174342Z
URL:https://business.upwardniagara.com/chamber-events/Details/live-music-bella-rose-with-skyline-duo-1713558?sourceTypeId=Hub
END:VEVENT
END:VCALENDAR
