BEGIN:VCALENDAR
VERSION:2.0
PRODID:-//ChamberMaster//Event Calendar 2.0//EN
METHOD:PUBLISH
X-PUBLISHED-TTL:P1H
REFRESH-INTERVAL:P1H
CALSCALE:GREGORIAN
BEGIN:VTIMEZONE
TZID:America/New_York
BEGIN:DAYLIGHT
RRULE:FREQ=YEARLY;BYMONTH=3;BYDAY=2SU
DTSTART:20070101T000000
TZOFFSETFROM:-0500
TZOFFSETTO:-0400
TZNAME:Eastern Daylight Time
END:DAYLIGHT
BEGIN:STANDARD
RRULE:FREQ=YEARLY;BYMONTH=11;BYDAY=1SU
DTSTART:20070101T000000
TZOFFSETFROM:-0400
TZOFFSETTO:-0500
TZNAME:Eastern Standard Time
END:STANDARD
END:VTIMEZONE
BEGIN:VEVENT
DTSTART;TZID=America/New_York:20260905T150000
DTEND;TZID=America/New_York:20260905T180000
X-MICROSOFT-CDO-ALLDAYEVENT:FALSE
SUMMARY:LIVE MUSIC @ BELLA ROSE WITH 90 WEST
DESCRIPTION:Free & Live from the vineyard: 90 WEST BandThe 90 WEST Band is a high-energy country band playing all your favorites from today's country\, as well as your country classics.
X-ALT-DESC;FMTTYPE=text/html:<!DOCTYPE html><html><head><title></title></head><body aria-disabled="false"><div style='margin: 0px\; padding: 0px\; border: 0px\; font-size: 14px\; vertical-align: baseline\; float: left\; font-style: italic\; color: rgb(255\, 255\, 255)\; font-family: "Open Sans"\, sans-serif\; font-variant-ligatures: normal\; font-variant-caps: normal\; font-weight: 400\; letter-spacing: normal\; orphans: 2\; text-align: start\; text-indent: 0px\; text-transform: none\; widows: 2\; word-spacing: 0px\; -webkit-text-stroke-width: 0px\; white-space: normal\; background-color: rgba(0\, 0\, 0\, 0.3)\; text-decoration-thickness: initial\; text-decoration-style: initial\; text-decoration-color: initial\;'><br></div><div style='margin: 0px\; padding: 0px\; border: 0px\; font-size: 14px\; vertical-align: baseline\; color: rgb(255\, 255\, 255)\; font-family: "Open Sans"\, sans-serif\; font-style: normal\; font-variant-ligatures: normal\; font-variant-caps: normal\; font-weight: 400\; letter-spacing: normal\; orphans: 2\; text-align: start\; text-indent: 0px\; text-transform: none\; widows: 2\; word-spacing: 0px\; -webkit-text-stroke-width: 0px\; white-space: normal\; background-color: rgba(0\, 0\, 0\, 0.3)\; text-decoration-thickness: initial\; text-decoration-style: initial\; text-decoration-color: initial\;'><a fr-original-style="color: rgb(255\, 255\, 255)\; margin: 0px\; padding: 0px\; border: 0px\; font-size: 14px\; vertical-align: baseline\;" href="http://www.bellarosewinery.com/free-live-from-the-vineyard-90-west-band.shtml" style="color: rgb(255\, 255\, 255)\; margin: 0px\; padding: 0px\; border: 0px\; font-size: 14px\; vertical-align: baseline\; user-select: auto\;">Free &amp\; Live from the vineyard: 90 WEST Band</a></div><div style='margin: 0px 0px 10px\; padding: 0px\; border: 0px\; font-size: 14px\; vertical-align: baseline\; color: rgb(255\, 255\, 255)\; font-family: "Open Sans"\, sans-serif\; font-style: normal\; font-variant-ligatures: normal\; font-variant-caps: normal\; font-weight: 400\; letter-spacing: normal\; orphans: 2\; text-align: start\; text-indent: 0px\; text-transform: none\; widows: 2\; word-spacing: 0px\; -webkit-text-stroke-width: 0px\; white-space: normal\; background-color: rgba(0\, 0\, 0\, 0.3)\; text-decoration-thickness: initial\; text-decoration-style: initial\; text-decoration-color: initial\;'>The 90 WEST Band is a high-energy country band playing all your favorites from today&#39\;s country\, as well as your country classics.</div></body></html>
LOCATION:1243 Ridge Road Lewiston NY 14092
UID:e.1541.1446749
SEQUENCE:3
DTSTAMP:20260424T174342Z
URL:https://business.upwardniagara.com/chamber-events/Details/live-music-bella-rose-with-90-west-1713559?sourceTypeId=Hub
END:VEVENT
END:VCALENDAR
