BEGIN:VCALENDAR
VERSION:2.0
PRODID:-//ChamberMaster//Event Calendar 2.0//EN
METHOD:PUBLISH
X-PUBLISHED-TTL:P1H
REFRESH-INTERVAL:P1H
CALSCALE:GREGORIAN
BEGIN:VTIMEZONE
TZID:America/New_York
BEGIN:DAYLIGHT
RRULE:FREQ=YEARLY;BYMONTH=3;BYDAY=2SU
DTSTART:20070101T000000
TZOFFSETFROM:-0500
TZOFFSETTO:-0400
TZNAME:Eastern Daylight Time
END:DAYLIGHT
BEGIN:STANDARD
RRULE:FREQ=YEARLY;BYMONTH=11;BYDAY=1SU
DTSTART:20070101T000000
TZOFFSETFROM:-0400
TZOFFSETTO:-0500
TZNAME:Eastern Standard Time
END:STANDARD
END:VTIMEZONE
BEGIN:VEVENT
DTSTART;TZID=America/New_York:20260515T180000
DTEND;TZID=America/New_York:20260515T213000
X-MICROSOFT-CDO-ALLDAYEVENT:FALSE
SUMMARY:Homeless Alliance of WNY First-Ever Meat Raffle
DESCRIPTION:It's a meat raffle. It's also kind of a big deal.More than 7\,000 people in Erie County experience homelessness every year. Right now\, only one in five can get the help they need. The Homeless Alliance of WNY is working to change that\, and on May 15\, 2026\, you can help.Join the Homeless Alliance for its first-ever Meat Raffle at the Knights Events Center in Cheektowaga. Your entry ticket includes access to seventeen meat raffle rounds\, plus basket raffles\, wine pulls\, gift card draws\, a 50/50\, and unlimited beer\, wine\, and soft drinks. Bring your favorite snacks. Come for the fun. Stay because the stakes are real.Presale tickets are $15. Tables of eight are $100. Tickets at the door are $20. Can't make it? A $5 donation at WNYhomeless.org still has impact.Doors open at 6 p.m. First spin at 7 p.m.Knights of Columbus Events Center 2735 Union Road\, Cheektowaga\, NY 14227Tickets and info: WNYhomeless.org
X-ALT-DESC;FMTTYPE=text/html:<!DOCTYPE html><html><head><title></title></head><body aria-disabled="false"><p style='box-sizing: border-box\; margin: 20px 0px\; min-height: 1px\; font-size: 18px\; line-height: 26.4px\; color: rgb(17\, 17\, 17)\; font-family: Roboto\, "Open Sans"\, "Helvetica Neue"\, Helvetica\, Arial\, sans-serif\; font-style: normal\; font-variant-ligatures: normal\; font-variant-caps: normal\; font-weight: 400\; letter-spacing: normal\; orphans: 2\; text-align: start\; text-indent: 0px\; text-transform: none\; widows: 2\; word-spacing: 0px\; -webkit-text-stroke-width: 0px\; white-space: normal\; background-color: rgb(255\, 255\, 255)\; text-decoration-thickness: initial\; text-decoration-style: initial\; text-decoration-color: initial\;'><b style="box-sizing: border-box\; margin: 0px\; font-weight: 500\;"><strong fr-original-style="" style="font-weight: 700\;">It&#39\;s a meat raffle. It&#39\;s also kind of a big deal.</strong></b></p><p style='box-sizing: border-box\; margin: 20px 0px\; min-height: 1px\; font-size: 18px\; line-height: 26.4px\; color: rgb(17\, 17\, 17)\; font-family: Roboto\, "Open Sans"\, "Helvetica Neue"\, Helvetica\, Arial\, sans-serif\; font-style: normal\; font-variant-ligatures: normal\; font-variant-caps: normal\; font-weight: 400\; letter-spacing: normal\; orphans: 2\; text-align: start\; text-indent: 0px\; text-transform: none\; widows: 2\; word-spacing: 0px\; -webkit-text-stroke-width: 0px\; white-space: normal\; background-color: rgb(255\, 255\, 255)\; text-decoration-thickness: initial\; text-decoration-style: initial\; text-decoration-color: initial\;'>More than 7\,000 people in Erie County experience homelessness every year. Right now\, only one in five can get the help they need. The Homeless Alliance of WNY is working to change that\, and on May 15\, 2026\, you can help.</p><p style='box-sizing: border-box\; margin: 20px 0px\; min-height: 1px\; font-size: 18px\; line-height: 26.4px\; color: rgb(17\, 17\, 17)\; font-family: Roboto\, "Open Sans"\, "Helvetica Neue"\, Helvetica\, Arial\, sans-serif\; font-style: normal\; font-variant-ligatures: normal\; font-variant-caps: normal\; font-weight: 400\; letter-spacing: normal\; orphans: 2\; text-align: start\; text-indent: 0px\; text-transform: none\; widows: 2\; word-spacing: 0px\; -webkit-text-stroke-width: 0px\; white-space: normal\; background-color: rgb(255\, 255\, 255)\; text-decoration-thickness: initial\; text-decoration-style: initial\; text-decoration-color: initial\;'>Join the Homeless Alliance for its first-ever Meat Raffle at the Knights Events Center in Cheektowaga. Your entry ticket includes access to seventeen meat raffle rounds\, plus basket raffles\, wine pulls\, gift card draws\, a 50/50\, and unlimited beer\, wine\, and soft drinks. Bring your favorite snacks. Come for the fun. Stay because the stakes are real.</p><p style='box-sizing: border-box\; margin: 20px 0px\; min-height: 1px\; font-size: 18px\; line-height: 26.4px\; color: rgb(17\, 17\, 17)\; font-family: Roboto\, "Open Sans"\, "Helvetica Neue"\, Helvetica\, Arial\, sans-serif\; font-style: normal\; font-variant-ligatures: normal\; font-variant-caps: normal\; font-weight: 400\; letter-spacing: normal\; orphans: 2\; text-align: start\; text-indent: 0px\; text-transform: none\; widows: 2\; word-spacing: 0px\; -webkit-text-stroke-width: 0px\; white-space: normal\; background-color: rgb(255\, 255\, 255)\; text-decoration-thickness: initial\; text-decoration-style: initial\; text-decoration-color: initial\;'><a fr-original-style="box-sizing: border-box\; margin: 20px 0px\; color: rgb(0\, 93\, 143)\; text-decoration: underline\; font-size: 1.125rem\; line-height: 26.4px\;" href="https://www.zeffy.com/en-US/ticketing/meat-raffle-benefiting-the-homeless-alliance-of-wny" rel="nofollow noopener" style="box-sizing: border-box\; margin: 20px 0px\; color: rgb(0\, 93\, 143)\; text-decoration: underline\; font-size: 1.125rem\; line-height: 26.4px\; user-select: auto\;" target="_blank"><b style="box-sizing: border-box\; margin: 0px\; font-weight: 500\;"><strong fr-original-style="" style="font-weight: 700\;">Presale tickets are $15. Tables of eight are $100</strong></b></a>. Tickets at the door are $20. Can&#39\;t make it? A $5 donation at WNYhomeless.org still has impact.</p><p style='box-sizing: border-box\; margin: 20px 0px\; min-height: 1px\; font-size: 18px\; line-height: 26.4px\; color: rgb(17\, 17\, 17)\; font-family: Roboto\, "Open Sans"\, "Helvetica Neue"\, Helvetica\, Arial\, sans-serif\; font-style: normal\; font-variant-ligatures: normal\; font-variant-caps: normal\; font-weight: 400\; letter-spacing: normal\; orphans: 2\; text-align: start\; text-indent: 0px\; text-transform: none\; widows: 2\; word-spacing: 0px\; -webkit-text-stroke-width: 0px\; white-space: normal\; background-color: rgb(255\, 255\, 255)\; text-decoration-thickness: initial\; text-decoration-style: initial\; text-decoration-color: initial\;'>Doors open at 6 p.m. First spin at 7 p.m.</p><p style='box-sizing: border-box\; margin: 20px 0px\; min-height: 1px\; font-size: 18px\; line-height: 26.4px\; color: rgb(17\, 17\, 17)\; font-family: Roboto\, "Open Sans"\, "Helvetica Neue"\, Helvetica\, Arial\, sans-serif\; font-style: normal\; font-variant-ligatures: normal\; font-variant-caps: normal\; font-weight: 400\; letter-spacing: normal\; orphans: 2\; text-align: start\; text-indent: 0px\; text-transform: none\; widows: 2\; word-spacing: 0px\; -webkit-text-stroke-width: 0px\; white-space: normal\; background-color: rgb(255\, 255\, 255)\; text-decoration-thickness: initial\; text-decoration-style: initial\; text-decoration-color: initial\;'>Knights of Columbus Events Center 2735 Union Road\, Cheektowaga\, NY 14227</p><p style='box-sizing: border-box\; margin: 20px 0px\; min-height: 1px\; font-size: 18px\; line-height: 26.4px\; color: rgb(17\, 17\, 17)\; font-family: Roboto\, "Open Sans"\, "Helvetica Neue"\, Helvetica\, Arial\, sans-serif\; font-style: normal\; font-variant-ligatures: normal\; font-variant-caps: normal\; font-weight: 400\; letter-spacing: normal\; orphans: 2\; text-align: start\; text-indent: 0px\; text-transform: none\; widows: 2\; word-spacing: 0px\; -webkit-text-stroke-width: 0px\; white-space: normal\; background-color: rgb(255\, 255\, 255)\; text-decoration-thickness: initial\; text-decoration-style: initial\; text-decoration-color: initial\;'><a fr-original-style="box-sizing: border-box\; margin: 20px 0px\; color: rgb(0\, 93\, 143)\; text-decoration: underline\; font-size: 1.125rem\; line-height: 26.4px\;" href="https://wnyhomeless.org/2026-homeless-alliance-meat-raffle/" rel="nofollow noopener" style="box-sizing: border-box\; margin: 20px 0px\; color: rgb(0\, 93\, 143)\; text-decoration: underline\; font-size: 1.125rem\; line-height: 26.4px\; user-select: auto\;" target="_blank"><b style="box-sizing: border-box\; margin: 0px\; font-weight: 500\;"><strong fr-original-style="" style="font-weight: 700\;">Tickets and info: WNYhomeless.org</strong></b></a></p></body></html>
LOCATION:
UID:e.1541.1446160
SEQUENCE:3
DTSTAMP:20260424T175029Z
URL:https://business.upwardniagara.com/chamber-events/Details/homeless-alliance-of-wny-first-ever-meat-raffle-1712869?sourceTypeId=Hub
END:VEVENT
END:VCALENDAR
